BEGIN:VCALENDAR
VERSION:2.0
PRODID:-//Shakeout BC - ECPv6.15.13.1//NONSGML v1.0//EN
CALSCALE:GREGORIAN
METHOD:PUBLISH
X-WR-CALNAME:Shakeout BC
X-ORIGINAL-URL:https://www.shakeoutbc.ca
X-WR-CALDESC:Events for Shakeout BC
REFRESH-INTERVAL;VALUE=DURATION:PT1H
X-Robots-Tag:noindex
X-PUBLISHED-TTL:PT1H
BEGIN:VTIMEZONE
TZID:America/Vancouver
BEGIN:DAYLIGHT
TZOFFSETFROM:-0800
TZOFFSETTO:-0700
TZNAME:PDT
DTSTART:20230312T100000
END:DAYLIGHT
BEGIN:STANDARD
TZOFFSETFROM:-0700
TZOFFSETTO:-0800
TZNAME:PST
DTSTART:20231105T090000
END:STANDARD
BEGIN:DAYLIGHT
TZOFFSETFROM:-0800
TZOFFSETTO:-0700
TZNAME:PDT
DTSTART:20240310T100000
END:DAYLIGHT
BEGIN:STANDARD
TZOFFSETFROM:-0700
TZOFFSETTO:-0800
TZNAME:PST
DTSTART:20241103T090000
END:STANDARD
BEGIN:DAYLIGHT
TZOFFSETFROM:-0800
TZOFFSETTO:-0700
TZNAME:PDT
DTSTART:20250309T100000
END:DAYLIGHT
BEGIN:STANDARD
TZOFFSETFROM:-0700
TZOFFSETTO:-0800
TZNAME:PST
DTSTART:20251102T090000
END:STANDARD
END:VTIMEZONE
BEGIN:VEVENT
DTSTART;TZID=America/Vancouver:20240505T110000
DTEND;TZID=America/Vancouver:20240505T150000
DTSTAMP:20260420T214228
CREATED:20240422T002628Z
LAST-MODIFIED:20240423T202649Z
UID:34161-1714906800-1714921200@www.shakeoutbc.ca
SUMMARY:Emergency Preparedness Expo at Heritage Acres
DESCRIPTION:Emergencies can happen at any time\, and the District of Central Saanich is inviting the public to its first Emergency Preparedness Expo on Sunday\, May 5\, from 11:00 a.m. to 3:00 p.m.\, at Heritage Acres\, 7321 Lochside Drive to learn what steps you need to take to be ready. ShakeOutBC will be hosting a table at this event\, so be sure to stop by and learn more about what it takes to be prepared for tsunamis and earthquakes! \nJoin us for this free\, fun family event and get tips on making an emergency plan\, meet emergency response experts\, and see live demonstrations!
URL:https://www.shakeoutbc.ca/event/emergency-preparedness-expo-at-heritage-acres/
LOCATION:Heritage Acres\, 7321 Lochside Drive\, Saanichton\, BC\, V8M1W4\, Canada
END:VEVENT
END:VCALENDAR