BEGIN:VCALENDAR
VERSION:2.0
PRODID:-//Shakeout BC - ECPv6.15.13.1//NONSGML v1.0//EN
CALSCALE:GREGORIAN
METHOD:PUBLISH
X-ORIGINAL-URL:https://www.shakeoutbc.ca
X-WR-CALDESC:Events for Shakeout BC
REFRESH-INTERVAL;VALUE=DURATION:PT1H
X-Robots-Tag:noindex
X-PUBLISHED-TTL:PT1H
BEGIN:VTIMEZONE
TZID:America/Vancouver
BEGIN:DAYLIGHT
TZOFFSETFROM:-0800
TZOFFSETTO:-0700
TZNAME:PDT
DTSTART:20230312T100000
END:DAYLIGHT
BEGIN:STANDARD
TZOFFSETFROM:-0700
TZOFFSETTO:-0800
TZNAME:PST
DTSTART:20231105T090000
END:STANDARD
BEGIN:DAYLIGHT
TZOFFSETFROM:-0800
TZOFFSETTO:-0700
TZNAME:PDT
DTSTART:20240310T100000
END:DAYLIGHT
BEGIN:STANDARD
TZOFFSETFROM:-0700
TZOFFSETTO:-0800
TZNAME:PST
DTSTART:20241103T090000
END:STANDARD
BEGIN:DAYLIGHT
TZOFFSETFROM:-0800
TZOFFSETTO:-0700
TZNAME:PDT
DTSTART:20250309T100000
END:DAYLIGHT
BEGIN:STANDARD
TZOFFSETFROM:-0700
TZOFFSETTO:-0800
TZNAME:PST
DTSTART:20251102T090000
END:STANDARD
END:VTIMEZONE
BEGIN:VEVENT
DTSTART;TZID=America/Vancouver:20240511T100000
DTEND;TZID=America/Vancouver:20240511T140000
DTSTAMP:20260420T214525
CREATED:20240510T173416Z
LAST-MODIFIED:20240510T173941Z
UID:36180-1715421600-1715436000@www.shakeoutbc.ca
SUMMARY:Cowichan Emergency Preparedness Expo
DESCRIPTION:Join us at the Cowichan Emergency Preparedness Expo! \nEvent flyer can be found here: https://www.shakeoutbc.ca/wp-content/uploads/2024/05/2024_EMC-CEPE_flyer_V5.pdf
URL:https://www.shakeoutbc.ca/event/cowichan-emergency-preparedness-expo-2/
LOCATION:Commons Park\, 1461 Fisher Road\, Cobble Hill\, BC\, V0R 1L3\, Canada
END:VEVENT
END:VCALENDAR