BEGIN:VCALENDAR
VERSION:2.0
PRODID:-//Shakeout BC - ECPv6.15.13.1//NONSGML v1.0//EN
CALSCALE:GREGORIAN
METHOD:PUBLISH
X-ORIGINAL-URL:https://www.shakeoutbc.ca
X-WR-CALDESC:Events for Shakeout BC
REFRESH-INTERVAL;VALUE=DURATION:PT1H
X-Robots-Tag:noindex
X-PUBLISHED-TTL:PT1H
BEGIN:VTIMEZONE
TZID:America/Vancouver
BEGIN:DAYLIGHT
TZOFFSETFROM:-0800
TZOFFSETTO:-0700
TZNAME:PDT
DTSTART:20230312T100000
END:DAYLIGHT
BEGIN:STANDARD
TZOFFSETFROM:-0700
TZOFFSETTO:-0800
TZNAME:PST
DTSTART:20231105T090000
END:STANDARD
BEGIN:DAYLIGHT
TZOFFSETFROM:-0800
TZOFFSETTO:-0700
TZNAME:PDT
DTSTART:20240310T100000
END:DAYLIGHT
BEGIN:STANDARD
TZOFFSETFROM:-0700
TZOFFSETTO:-0800
TZNAME:PST
DTSTART:20241103T090000
END:STANDARD
BEGIN:DAYLIGHT
TZOFFSETFROM:-0800
TZOFFSETTO:-0700
TZNAME:PDT
DTSTART:20250309T100000
END:DAYLIGHT
BEGIN:STANDARD
TZOFFSETFROM:-0700
TZOFFSETTO:-0800
TZNAME:PST
DTSTART:20251102T090000
END:STANDARD
END:VTIMEZONE
BEGIN:VEVENT
DTSTART;TZID=America/Vancouver:20240907T100000
DTEND;TZID=America/Vancouver:20240907T160000
DTSTAMP:20260420T145158
CREATED:20240726T181442Z
LAST-MODIFIED:20240726T204518Z
UID:38488-1725703200-1725724800@www.shakeoutbc.ca
SUMMARY:Emergency Preparedness EXPO
DESCRIPTION:The Emergency Management Oceanside (EMO) team will be hosting the Emergency Preparedness EXPO again this year after a few years off due to COVID. \nThis event will take place on Saturday September 7th at the Qualicum Beach Civic Center from 10:00 am to 4:00 pm. \nFirst responders\, government agencies\, emergency supply vendors\, utilities and emergency partners will host a variety of activities to help emphasize the importance of taking steps to improve emergency preparedness and response. Displays\, demonstrations\, workshops\, kids’ activities\, and Quake Cottage\, the ultimate mobile earthquake simulator. Learn about the challenges we face in an emergency and how to be better prepared. 
URL:https://www.shakeoutbc.ca/event/emergency-preparedness-expo-2/
LOCATION:Qualicum Beach Civic Center\, 747 Jones St\, Qualicum Beach\, British Columbia\, V9K 1S7\, Canada
ATTACH;FMTTYPE=image/png:https://www.shakeoutbc.ca/wp-content/uploads/2024/07/EMO_EXPO_IMAGE.png
END:VEVENT
END:VCALENDAR