BEGIN:VCALENDAR
VERSION:2.0
PRODID:-//Shakeout BC - ECPv6.15.13.1//NONSGML v1.0//EN
CALSCALE:GREGORIAN
METHOD:PUBLISH
X-ORIGINAL-URL:https://www.shakeoutbc.ca
X-WR-CALDESC:Events for Shakeout BC
REFRESH-INTERVAL;VALUE=DURATION:PT1H
X-Robots-Tag:noindex
X-PUBLISHED-TTL:PT1H
BEGIN:VTIMEZONE
TZID:America/Vancouver
BEGIN:DAYLIGHT
TZOFFSETFROM:-0800
TZOFFSETTO:-0700
TZNAME:PDT
DTSTART:20230312T100000
END:DAYLIGHT
BEGIN:STANDARD
TZOFFSETFROM:-0700
TZOFFSETTO:-0800
TZNAME:PST
DTSTART:20231105T090000
END:STANDARD
BEGIN:DAYLIGHT
TZOFFSETFROM:-0800
TZOFFSETTO:-0700
TZNAME:PDT
DTSTART:20240310T100000
END:DAYLIGHT
BEGIN:STANDARD
TZOFFSETFROM:-0700
TZOFFSETTO:-0800
TZNAME:PST
DTSTART:20241103T090000
END:STANDARD
BEGIN:DAYLIGHT
TZOFFSETFROM:-0800
TZOFFSETTO:-0700
TZNAME:PDT
DTSTART:20250309T100000
END:DAYLIGHT
BEGIN:STANDARD
TZOFFSETFROM:-0700
TZOFFSETTO:-0800
TZNAME:PST
DTSTART:20251102T090000
END:STANDARD
END:VTIMEZONE
BEGIN:VEVENT
DTSTART;TZID=America/Vancouver:20240928T100000
DTEND;TZID=America/Vancouver:20240928T130000
DTSTAMP:20260420T145156
CREATED:20240803T033158Z
LAST-MODIFIED:20240926T012525Z
UID:38525-1727517600-1727528400@www.shakeoutbc.ca
SUMMARY:Langley Emergency Preparedness Workshop
DESCRIPTION:*This event is now full\, thank you for your overwhelming interest. The next in-person event will be the Personal Preparedness Community Fair on November 2nd. View the event here: https://www.shakeoutbc.ca/event/personal-prepare…s-community-fair/ \nJoin BCEA for a FREE workshop to kick off the 2024 Emergency Preparedness Workshop Series.  \nTo reserve a seat\, please sign up here: Registration link .This session is designed with participants from Langley\, Surrey\, Maple Ridge\, Abbotsford\, and Chilliwack in mind. \nDrop ins are welcome space permitting. \nThis series will build on the success of the 2023 Emergency Preparedness Expo. During this interactive workshop\, participants will increase their understanding of local risks and important emergency preparedness concepts. Takeaway resources will be provided. A light lunch courtesy of the Organizing Committee.  \n 
URL:https://www.shakeoutbc.ca/event/langley-workshop/
LOCATION:Temple View Gymnasium\, LDS Church\, 20370 82nd Avenue\, Langley\, British Columbia\, V2Y 2B2
END:VEVENT
END:VCALENDAR