BEGIN:VCALENDAR
VERSION:2.0
PRODID:-//Shakeout BC - ECPv6.15.13.1//NONSGML v1.0//EN
CALSCALE:GREGORIAN
METHOD:PUBLISH
X-ORIGINAL-URL:https://www.shakeoutbc.ca
X-WR-CALDESC:Events for Shakeout BC
REFRESH-INTERVAL;VALUE=DURATION:PT1H
X-Robots-Tag:noindex
X-PUBLISHED-TTL:PT1H
BEGIN:VTIMEZONE
TZID:America/Vancouver
BEGIN:DAYLIGHT
TZOFFSETFROM:-0800
TZOFFSETTO:-0700
TZNAME:PDT
DTSTART:20250309T100000
END:DAYLIGHT
BEGIN:STANDARD
TZOFFSETFROM:-0700
TZOFFSETTO:-0800
TZNAME:PST
DTSTART:20251102T090000
END:STANDARD
BEGIN:DAYLIGHT
TZOFFSETFROM:-0800
TZOFFSETTO:-0700
TZNAME:PDT
DTSTART:20260308T100000
END:DAYLIGHT
BEGIN:STANDARD
TZOFFSETFROM:-0700
TZOFFSETTO:-0800
TZNAME:PST
DTSTART:20261101T090000
END:STANDARD
BEGIN:DAYLIGHT
TZOFFSETFROM:-0800
TZOFFSETTO:-0700
TZNAME:PDT
DTSTART:20270314T100000
END:DAYLIGHT
BEGIN:STANDARD
TZOFFSETFROM:-0700
TZOFFSETTO:-0800
TZNAME:PST
DTSTART:20271107T090000
END:STANDARD
END:VTIMEZONE
BEGIN:VEVENT
DTSTART;TZID=America/Vancouver:20261015T101500
DTEND;TZID=America/Vancouver:20261015T102000
DTSTAMP:20260421T025328
CREATED:20260304T231228Z
LAST-MODIFIED:20260304T231310Z
UID:48146-1792059300-1792059600@www.shakeoutbc.ca
SUMMARY:The Great BC ShakeOut 2026
DESCRIPTION:The BC Earthquake Alliance will be hosting the 15th Annual ShakeOutBC earthquake drill this year. \nLiving in an earthquake region means people of British Columbia need to be prepared and\nknow how to stay safe during and after an earthquake. Get ready to Drop\, Cover\, and Hold On! and join thousands of people on Thursday\, October 15th\, at 10:15AM!
URL:https://www.shakeoutbc.ca/event/the-great-bc-shakeout-2026/
END:VEVENT
END:VCALENDAR