BEGIN:VCALENDAR
VERSION:2.0
PRODID:-//Shakeout BC - ECPv6.15.13.1//NONSGML v1.0//EN
CALSCALE:GREGORIAN
METHOD:PUBLISH
X-WR-CALNAME:Shakeout BC
X-ORIGINAL-URL:https://www.shakeoutbc.ca
X-WR-CALDESC:Events for Shakeout BC
REFRESH-INTERVAL;VALUE=DURATION:PT1H
X-Robots-Tag:noindex
X-PUBLISHED-TTL:PT1H
BEGIN:VTIMEZONE
TZID:America/Vancouver
BEGIN:DAYLIGHT
TZOFFSETFROM:-0800
TZOFFSETTO:-0700
TZNAME:PDT
DTSTART:20210314T100000
END:DAYLIGHT
BEGIN:STANDARD
TZOFFSETFROM:-0700
TZOFFSETTO:-0800
TZNAME:PST
DTSTART:20211107T090000
END:STANDARD
BEGIN:DAYLIGHT
TZOFFSETFROM:-0800
TZOFFSETTO:-0700
TZNAME:PDT
DTSTART:20220313T100000
END:DAYLIGHT
BEGIN:STANDARD
TZOFFSETFROM:-0700
TZOFFSETTO:-0800
TZNAME:PST
DTSTART:20221106T090000
END:STANDARD
BEGIN:DAYLIGHT
TZOFFSETFROM:-0800
TZOFFSETTO:-0700
TZNAME:PDT
DTSTART:20230312T100000
END:DAYLIGHT
BEGIN:STANDARD
TZOFFSETFROM:-0700
TZOFFSETTO:-0800
TZNAME:PST
DTSTART:20231105T090000
END:STANDARD
END:VTIMEZONE
BEGIN:VEVENT
DTSTART;TZID=America/Vancouver:20220504T103000
DTEND;TZID=America/Vancouver:20220504T113000
DTSTAMP:20260420T131329
CREATED:20220608T121750Z
LAST-MODIFIED:20221010T104859Z
UID:21582-1651660200-1651663800@www.shakeoutbc.ca
SUMMARY:Earthquake Webinar Designed for Kids
DESCRIPTION: \nCALLING ALL TEACHERS\, EDUCATORS and HOME SCHOOLERS!\n \n\n\nWe are hosting an Earthquake webinar designed for kids on Wednesday May 4th from 10:30am – 11:30am PT. This webinar is geared for students Grades 3 – 6 but all grades are welcome. This session will help students learn how to be safe when the earth shakes!\nPanelists include two (2) seismologists/earthquake experts\, emergency preparedness experts and representatives from BC Hydro and Fortis BC. The content will be fun and engaging and students/teachers/educators can submit any questions in advance.\n\n\n \nRegister in advance for this webinar:\nhttps://us06web.zoom.us/webinar/register/WN_bO5b_OhdSgKFIGEqVBFypQ?\n\n\nAfter registering\, you will receive a confirmation email containing information about joining the webinar. Send your questions to info@shakeoutbc.ca\n\n 
URL:https://www.shakeoutbc.ca/event/earthquake-webinar-designed-for-kids/
LOCATION:G.R. Pearkes Recreation Centre – 3100 Tillicum Road – Owen Room3100 Tillicum Road – Owen Room\, 3100 Tillicum Road - Owen Room\, Victoria\, BC\, Canada
END:VEVENT
END:VCALENDAR