BEGIN:VCALENDAR
VERSION:2.0
PRODID:-//Shakeout BC - ECPv6.15.13.1//NONSGML v1.0//EN
CALSCALE:GREGORIAN
METHOD:PUBLISH
X-WR-CALNAME:Shakeout BC
X-ORIGINAL-URL:https://www.shakeoutbc.ca
X-WR-CALDESC:Events for Shakeout BC
REFRESH-INTERVAL;VALUE=DURATION:PT1H
X-Robots-Tag:noindex
X-PUBLISHED-TTL:PT1H
BEGIN:VTIMEZONE
TZID:America/Vancouver
BEGIN:DAYLIGHT
TZOFFSETFROM:-0800
TZOFFSETTO:-0700
TZNAME:PDT
DTSTART:20230312T100000
END:DAYLIGHT
BEGIN:STANDARD
TZOFFSETFROM:-0700
TZOFFSETTO:-0800
TZNAME:PST
DTSTART:20231105T090000
END:STANDARD
BEGIN:DAYLIGHT
TZOFFSETFROM:-0800
TZOFFSETTO:-0700
TZNAME:PDT
DTSTART:20240310T100000
END:DAYLIGHT
BEGIN:STANDARD
TZOFFSETFROM:-0700
TZOFFSETTO:-0800
TZNAME:PST
DTSTART:20241103T090000
END:STANDARD
BEGIN:DAYLIGHT
TZOFFSETFROM:-0800
TZOFFSETTO:-0700
TZNAME:PDT
DTSTART:20250309T100000
END:DAYLIGHT
BEGIN:STANDARD
TZOFFSETFROM:-0700
TZOFFSETTO:-0800
TZNAME:PST
DTSTART:20251102T090000
END:STANDARD
END:VTIMEZONE
BEGIN:VEVENT
DTSTART;TZID=America/Vancouver:20240608T090000
DTEND;TZID=America/Vancouver:20240608T150000
DTSTAMP:20260420T180536
CREATED:20240516T193026Z
LAST-MODIFIED:20240516T193026Z
UID:38080-1717837200-1717858800@www.shakeoutbc.ca
SUMMARY:Open House at the Institute of Ocean Sciences
DESCRIPTION:You’re invited to join the open house at the Institute of Ocean Sciences\, this Saturday\, June 8\, 2024! \n\nTour a Coast Guard ship and learn about \nsearch & rescue and marine safety\nParticipate in hands-on science and explore \nnew technologies in DFO labs\nLearn about earthquakes from NRCan\nDiscover jobs at sea and in the lab\nParticipate in fun games & activities for kids!\n\nEvent flyer can be found here: https://www.shakeoutbc.ca/wp-content/uploads/2024/05/IOS-Open-House-2024-Poster.pdf
URL:https://www.shakeoutbc.ca/event/open-house-at-the-institute-of-ocean-sciences/
LOCATION:Institute of Ocean Sciences\, 9860 West Saanich Road\, North Saanich\, BC\, V8L 5V6\, Canada
END:VEVENT
END:VCALENDAR